BEGIN:VCALENDAR
VERSION:2.0
PRODID:-//Bryntebo böcker - ECPv6.15.20//NONSGML v1.0//EN
CALSCALE:GREGORIAN
METHOD:PUBLISH
X-WR-CALNAME:Bryntebo böcker
X-ORIGINAL-URL:https://www.bryntebo.se
X-WR-CALDESC:Händelser för Bryntebo böcker
REFRESH-INTERVAL;VALUE=DURATION:PT1H
X-Robots-Tag:noindex
X-PUBLISHED-TTL:PT1H
BEGIN:VTIMEZONE
TZID:Europe/Stockholm
BEGIN:DAYLIGHT
TZOFFSETFROM:+0100
TZOFFSETTO:+0200
TZNAME:CEST
DTSTART:20250330T010000
END:DAYLIGHT
BEGIN:STANDARD
TZOFFSETFROM:+0200
TZOFFSETTO:+0100
TZNAME:CET
DTSTART:20251026T010000
END:STANDARD
BEGIN:DAYLIGHT
TZOFFSETFROM:+0100
TZOFFSETTO:+0200
TZNAME:CEST
DTSTART:20260329T010000
END:DAYLIGHT
BEGIN:STANDARD
TZOFFSETFROM:+0200
TZOFFSETTO:+0100
TZNAME:CET
DTSTART:20261025T010000
END:STANDARD
BEGIN:DAYLIGHT
TZOFFSETFROM:+0100
TZOFFSETTO:+0200
TZNAME:CEST
DTSTART:20270328T010000
END:DAYLIGHT
BEGIN:STANDARD
TZOFFSETFROM:+0200
TZOFFSETTO:+0100
TZNAME:CET
DTSTART:20271031T010000
END:STANDARD
END:VTIMEZONE
BEGIN:VEVENT
DTSTART;TZID=Europe/Stockholm:20260627T130000
DTEND;TZID=Europe/Stockholm:20260627T160000
DTSTAMP:20260420T234517
CREATED:20260324T094022Z
LAST-MODIFIED:20260324T095624Z
UID:1962-1782565200-1782576000@www.bryntebo.se
SUMMARY:Slunga din egen honung
DESCRIPTION:Vi skördar säsongens första honung från bikuporna på gården. Pratar biodling\, rullar vaxljus\, skrapar ramar\, slungar och tappar upp på burk. Och fikar såklart.\nObs! Datum kan komma att ändras\, beroende på när honungen är mogen att skördas. \nI priset ingår fika\, ett vaxljus och en burk honung.
URL:https://www.bryntebo.se/event/slunga-din-egen-honung/
LOCATION:Bryntebo böcker\, Bryntebo 106\, Glommen\, 311 98\, Sverige
ATTACH;FMTTYPE=image/jpeg:https://www.bryntebo.se/wp-content/uploads/2026/03/bikupor.jpg
ORGANIZER;CN="Bryntebo bocker":MAILTO:info@bryntebo.se
END:VEVENT
BEGIN:VEVENT
DTSTART;TZID=Europe/Stockholm:20260725T180000
DTEND;TZID=Europe/Stockholm:20260725T200000
DTSTAMP:20260420T234517
CREATED:20260320T091313Z
LAST-MODIFIED:20260324T103150Z
UID:1941-1785002400-1785009600@www.bryntebo.se
SUMMARY:Carl-Einar Häckner - En magisk sommarkväll 25/7
DESCRIPTION:Välkommen till en ny sommarkväll på Bryntebo sommarscen. Trolleri\, humor\, slapstick\, visor och texter ur livets varieté. \nFr. 13 år. \n\nOBS! Om du vid avslutat köp inte får din biljett\, kontrollera din skräppost. Och har den inte råkat hamna där\, hör av dig till oss via info@bryntebo.se
URL:https://www.bryntebo.se/event/carl-einar-hackner-en-magisk-sommarkvall-25-7-2/
LOCATION:Bryntebo böcker\, Bryntebo 106\, Glommen\, 311 98\, Sverige
ATTACH;FMTTYPE=image/jpeg:https://www.bryntebo.se/wp-content/uploads/2026/03/CE_25-juli.jpg
ORGANIZER;CN="Bryntebo bocker":MAILTO:info@bryntebo.se
END:VEVENT
BEGIN:VEVENT
DTSTART;TZID=Europe/Stockholm:20260801T180000
DTEND;TZID=Europe/Stockholm:20260801T200000
DTSTAMP:20260420T234517
CREATED:20260320T091328Z
LAST-MODIFIED:20260324T103048Z
UID:1947-1785607200-1785614400@www.bryntebo.se
SUMMARY:Carl-Einar Häckner - En magisk sommarkväll 1/8
DESCRIPTION:Välkommen till en ny sommarkväll på Bryntebo sommarscen. Trolleri\, humor\, slapstick\, visor och texter ur livets varieté. \nFr. 13 år. \n\nOBS! Om du vid avslutat köp inte får din biljett\, kontrollera din skräppost. Och har den inte råkat hamna där\, hör av dig till oss via info@bryntebo.se
URL:https://www.bryntebo.se/event/carl-einar-hackner-en-magisk-sommarkvall-1-8/
LOCATION:Bryntebo böcker\, Bryntebo 106\, Glommen\, 311 98\, Sverige
ATTACH;FMTTYPE=image/jpeg:https://www.bryntebo.se/wp-content/uploads/2026/03/CE_1-aug.jpg
ORGANIZER;CN="Bryntebo bocker":MAILTO:info@bryntebo.se
END:VEVENT
END:VCALENDAR